BEGIN:VCALENDAR
VERSION:2.0
PRODID:-//Contratero//ES
CALSCALE:GREGORIAN
METHOD:PUBLISH
BEGIN:VEVENT
UID:25 045 SR JD NE AB11@contratero.es
DTSTAMP:20260424T175026Z
DTSTART:20251121T235959
DTEND:20251122T005959
SUMMARY:Cierre: Renovar el mantenimiento de las licencias del gest
DESCRIPTION:Renovar el mantenimiento de las licencias del gestor de bases de datos Oracle 2026\\n\\nOrganismo: Dirección General de Transformación Digital de los Servicios Públicos\\n\\nVer en Contratero: https://contratero.es/contracts/25 045 SR JD NE AB11
URL:https://contratero.es/contracts/25 045 SR JD NE AB11
STATUS:CONFIRMED
BEGIN:VALARM
TRIGGER:-P1D
ACTION:DISPLAY
DESCRIPTION:Recordatorio: Renovar el mantenimiento de la
END:VALARM
END:VEVENT
END:VCALENDAR